BEGIN:VCALENDAR
VERSION:2.0
PRODID:-//Tukios.com/
BEGIN:VEVENT
UID:c2ced810-5985-4e30-8581-e204108f9408@www.doughertyofhibbing.com
DTSTAMP:20260421T194318Z
DTSTART:20260427T150000Z
DTEND:20260427T160000Z
SUMMARY:Visitation
DESCRIPTION:
URL:https://www.doughertyofhibbing.com/obituaries/james-jim-taylor
LOCATION:Chisholm Baptist Church 901 6th St SW  Chisholm MN 55719
GEO:47.4829762;-92.8981823
END:VEVENT
END:VCALENDAR