BEGIN:VCALENDAR
VERSION:2.0
PRODID:-//Tukios.com/
BEGIN:VEVENT
UID:e1b12b1e-c789-493a-9cb7-21f4eaf05cdf@www.doughertyofhibbing.com
DTSTAMP:20260421T193816Z
DTSTART:20260427T160000Z
DTEND:20260427T170000Z
SUMMARY:Celebration of Life
DESCRIPTION:
URL:https://www.doughertyofhibbing.com/obituaries/james-jim-taylor
LOCATION:Chisholm Baptist Church 901 6th St SW  Chisholm MN 55719
GEO:47.4829762;-92.8981823
END:VEVENT
END:VCALENDAR